BEGIN:VCALENDAR
VERSION:2.0
PRODID:-//Northampton Valley Country Club - ECPv6.15.18//NONSGML v1.0//EN
CALSCALE:GREGORIAN
METHOD:PUBLISH
X-ORIGINAL-URL:https://www.northamptonvalleycountryclub.com
X-WR-CALDESC:Events for Northampton Valley Country Club
REFRESH-INTERVAL;VALUE=DURATION:PT1H
X-Robots-Tag:noindex
X-PUBLISHED-TTL:PT1H
BEGIN:VTIMEZONE
TZID:America/New_York
BEGIN:DAYLIGHT
TZOFFSETFROM:-0500
TZOFFSETTO:-0400
TZNAME:EDT
DTSTART:20250309T070000
END:DAYLIGHT
BEGIN:STANDARD
TZOFFSETFROM:-0400
TZOFFSETTO:-0500
TZNAME:EST
DTSTART:20251102T060000
END:STANDARD
BEGIN:DAYLIGHT
TZOFFSETFROM:-0500
TZOFFSETTO:-0400
TZNAME:EDT
DTSTART:20260308T070000
END:DAYLIGHT
BEGIN:STANDARD
TZOFFSETFROM:-0400
TZOFFSETTO:-0500
TZNAME:EST
DTSTART:20261101T060000
END:STANDARD
BEGIN:DAYLIGHT
TZOFFSETFROM:-0500
TZOFFSETTO:-0400
TZNAME:EDT
DTSTART:20270314T070000
END:DAYLIGHT
BEGIN:STANDARD
TZOFFSETFROM:-0400
TZOFFSETTO:-0500
TZNAME:EST
DTSTART:20271107T060000
END:STANDARD
END:VTIMEZONE
BEGIN:VEVENT
DTSTART;TZID=America/New_York:20260601T060000
DTEND;TZID=America/New_York:20260601T150000
DTSTAMP:20260425T071039
CREATED:20250212T190754Z
LAST-MODIFIED:20260205T164851Z
UID:10000509-1780293600-1780326000@www.northamptonvalleycountryclub.com
SUMMARY:TWU Outing
DESCRIPTION:COURSE CLOSED TO PUBLIC \nLeagues in the Evening
URL:https://www.northamptonvalleycountryclub.com/event/twu-outing/
CATEGORIES:Golf Outing
END:VEVENT
BEGIN:VEVENT
DTSTART;TZID=America/New_York:20260603T080000
DTEND;TZID=America/New_York:20260603T160000
DTSTAMP:20260425T071039
CREATED:20260219T195928Z
LAST-MODIFIED:20260219T195928Z
UID:10000719-1780473600-1780502400@www.northamptonvalleycountryclub.com
SUMMARY:SPIN Golf Outing
DESCRIPTION:Course Closed until Leagues in the Evening
URL:https://www.northamptonvalleycountryclub.com/event/spin-golf-outing/
END:VEVENT
BEGIN:VEVENT
DTSTART;TZID=America/New_York:20260604T080000
DTEND;TZID=America/New_York:20260604T150000
DTSTAMP:20260425T071039
CREATED:20260205T174457Z
LAST-MODIFIED:20260205T174457Z
UID:10000715-1780560000-1780585200@www.northamptonvalleycountryclub.com
SUMMARY:Brian David Memorial
DESCRIPTION:Course Closed \nLeagues in the Evening
URL:https://www.northamptonvalleycountryclub.com/event/brian-david-memorial/
END:VEVENT
BEGIN:VEVENT
DTSTART;TZID=America/New_York:20260614T150000
DTEND;TZID=America/New_York:20260614T200000
DTSTAMP:20260425T071039
CREATED:20260205T174757Z
LAST-MODIFIED:20260205T174757Z
UID:10000716-1781449200-1781467200@www.northamptonvalleycountryclub.com
SUMMARY:Junior Member Summer Bash
DESCRIPTION:For Junior Members to get to know each other: \n\n2-man scramble event\n9 Holes\nBuffet Dinner After
URL:https://www.northamptonvalleycountryclub.com/event/junior-member-summer-bash/
END:VEVENT
BEGIN:VEVENT
DTSTART;TZID=America/New_York:20260619T060000
DTEND;TZID=America/New_York:20260619T170000
DTSTAMP:20260425T071039
CREATED:20250212T191113Z
LAST-MODIFIED:20260205T164757Z
UID:10000511-1781848800-1781888400@www.northamptonvalleycountryclub.com
SUMMARY:Christopher Mensch Outing
DESCRIPTION:COURSE CLOSED TO PUBLIC
URL:https://www.northamptonvalleycountryclub.com/event/christopher-mensch-outing/
CATEGORIES:Golf Outing
END:VEVENT
BEGIN:VEVENT
DTSTART;TZID=America/New_York:20260620T060000
DTEND;TZID=America/New_York:20260620T170000
DTSTAMP:20260425T071039
CREATED:20250212T193405Z
LAST-MODIFIED:20260205T164702Z
UID:10000512-1781935200-1781974800@www.northamptonvalleycountryclub.com
SUMMARY:Fathers Day Shootout
DESCRIPTION:Public Event – Call the Pro shop for sign up information and pricing. \nTournament that will be 2-man teams\, scramble format (Parent-Kid Combos) \n 
URL:https://www.northamptonvalleycountryclub.com/event/father-son-shootout/
CATEGORIES:Golf Outing
END:VEVENT
BEGIN:VEVENT
DTSTART;TZID=America/New_York:20260622T060000
DTEND;TZID=America/New_York:20260622T150000
DTSTAMP:20260425T071039
CREATED:20250212T193525Z
LAST-MODIFIED:20260205T163848Z
UID:10000514-1782108000-1782140400@www.northamptonvalleycountryclub.com
SUMMARY:Ed Needham Outing
DESCRIPTION:COURSE CLOSED TO PUBLIC \nLeagues in the Evening
URL:https://www.northamptonvalleycountryclub.com/event/ed-needham-outing/
CATEGORIES:Golf Outing
END:VEVENT
BEGIN:VEVENT
DTSTART;TZID=America/New_York:20260627T080000
DTEND;TZID=America/New_York:20260628T170000
DTSTAMP:20260425T071039
CREATED:20250212T193444Z
LAST-MODIFIED:20260205T164407Z
UID:10000513-1782547200-1782666000@www.northamptonvalleycountryclub.com
SUMMARY:Member Guest
DESCRIPTION:
URL:https://www.northamptonvalleycountryclub.com/event/member-guest/
CATEGORIES:Golf Outing
END:VEVENT
END:VCALENDAR