BEGIN:VCALENDAR
VERSION:2.0
PRODID:-//Northampton Valley Country Club - ECPv6.15.18//NONSGML v1.0//EN
CALSCALE:GREGORIAN
METHOD:PUBLISH
X-ORIGINAL-URL:https://www.northamptonvalleycountryclub.com
X-WR-CALDESC:Events for Northampton Valley Country Club
REFRESH-INTERVAL;VALUE=DURATION:PT1H
X-Robots-Tag:noindex
X-PUBLISHED-TTL:PT1H
BEGIN:VTIMEZONE
TZID:America/New_York
BEGIN:DAYLIGHT
TZOFFSETFROM:-0500
TZOFFSETTO:-0400
TZNAME:EDT
DTSTART:20240310T070000
END:DAYLIGHT
BEGIN:STANDARD
TZOFFSETFROM:-0400
TZOFFSETTO:-0500
TZNAME:EST
DTSTART:20241103T060000
END:STANDARD
BEGIN:DAYLIGHT
TZOFFSETFROM:-0500
TZOFFSETTO:-0400
TZNAME:EDT
DTSTART:20250309T070000
END:DAYLIGHT
BEGIN:STANDARD
TZOFFSETFROM:-0400
TZOFFSETTO:-0500
TZNAME:EST
DTSTART:20251102T060000
END:STANDARD
BEGIN:DAYLIGHT
TZOFFSETFROM:-0500
TZOFFSETTO:-0400
TZNAME:EDT
DTSTART:20260308T070000
END:DAYLIGHT
BEGIN:STANDARD
TZOFFSETFROM:-0400
TZOFFSETTO:-0500
TZNAME:EST
DTSTART:20261101T060000
END:STANDARD
END:VTIMEZONE
BEGIN:VEVENT
DTSTART;TZID=America/New_York:20250511T110000
DTEND;TZID=America/New_York:20250511T140000
DTSTAMP:20260422T055218
CREATED:20250410T195036Z
LAST-MODIFIED:20250414T172407Z
UID:10000526-1746961200-1746972000@www.northamptonvalleycountryclub.com
SUMMARY:Mother's Day Brunch
DESCRIPTION:
URL:https://www.northamptonvalleycountryclub.com/event/mothers-day-brunch/
END:VEVENT
BEGIN:VEVENT
DTSTART;VALUE=DATE:20250523
DTEND;VALUE=DATE:20250524
DTSTAMP:20260422T055218
CREATED:20250523T205601Z
LAST-MODIFIED:20250523T205601Z
UID:10000529-1747958400-1748044799@www.northamptonvalleycountryclub.com
SUMMARY:Brian David Memorial Outing (Course Closed until leagues)
DESCRIPTION:
URL:https://www.northamptonvalleycountryclub.com/event/brian-david-memorial-outing-course-closed-until-leagues/
CATEGORIES:Golf Outing
END:VEVENT
BEGIN:VEVENT
DTSTART;TZID=America/New_York:20250526T080000
DTEND;TZID=America/New_York:20250526T110000
DTSTAMP:20260422T055218
CREATED:20250520T205028Z
LAST-MODIFIED:20250521T133451Z
UID:10000528-1748246400-1748257200@www.northamptonvalleycountryclub.com
SUMMARY:Memorial Day Ceremony at Robert H. Dembowski\, Jr. Veterans Memorial Park
DESCRIPTION:ROBERT H. DEMBOWSKI\, JR. VETERANS MEMORIAL PARK MEMORIAL DAY CEREMONY \nMAY 26\, 2025 \n9:00 A.M. \nRoutes 232 and 332\, Richboro\, PA \nThe Northampton Township Board of Supervisors And The Northampton Township Veterans Advisory Commission Welcomes You To a Special Memorial Day Ceremony \nThis year\, the ceremony will highlight personal letters sent home by service members during times of war. These heartfelt messages provide a powerful and intimate glimpse into the lives of those who served\, reflecting both personal experiences and significant moments in history. This special tribute ensures that the stories and sacrifices of these heroes are honored and never forgotten. \nAn 8:00 AM flag-raising ceremony will be conducted by the Marine Corps League Patriot Detachment at the flagpoles in front of the Northampton Township Administration Building\, located at 55 Township Road.
URL:https://www.northamptonvalleycountryclub.com/event/memorial-day-ceremony-at-robert-h-dembowski-jr-veterans-memorial-park/
END:VEVENT
END:VCALENDAR