BEGIN:VCALENDAR
VERSION:2.0
PRODID:-//Northampton Valley Country Club - ECPv6.15.18//NONSGML v1.0//EN
CALSCALE:GREGORIAN
METHOD:PUBLISH
X-WR-CALNAME:Northampton Valley Country Club
X-ORIGINAL-URL:https://www.northamptonvalleycountryclub.com
X-WR-CALDESC:Events for Northampton Valley Country Club
REFRESH-INTERVAL;VALUE=DURATION:PT1H
X-Robots-Tag:noindex
X-PUBLISHED-TTL:PT1H
BEGIN:VTIMEZONE
TZID:America/New_York
BEGIN:DAYLIGHT
TZOFFSETFROM:-0500
TZOFFSETTO:-0400
TZNAME:EDT
DTSTART:20240310T070000
END:DAYLIGHT
BEGIN:STANDARD
TZOFFSETFROM:-0400
TZOFFSETTO:-0500
TZNAME:EST
DTSTART:20241103T060000
END:STANDARD
BEGIN:DAYLIGHT
TZOFFSETFROM:-0500
TZOFFSETTO:-0400
TZNAME:EDT
DTSTART:20250309T070000
END:DAYLIGHT
BEGIN:STANDARD
TZOFFSETFROM:-0400
TZOFFSETTO:-0500
TZNAME:EST
DTSTART:20251102T060000
END:STANDARD
BEGIN:DAYLIGHT
TZOFFSETFROM:-0500
TZOFFSETTO:-0400
TZNAME:EDT
DTSTART:20260308T070000
END:DAYLIGHT
BEGIN:STANDARD
TZOFFSETFROM:-0400
TZOFFSETTO:-0500
TZNAME:EST
DTSTART:20261101T060000
END:STANDARD
END:VTIMEZONE
BEGIN:VEVENT
DTSTART;TZID=America/New_York:20250131T160000
DTEND;TZID=America/New_York:20250201T200000
DTSTAMP:20260422T103814
CREATED:20250107T210516Z
LAST-MODIFIED:20250107T214118Z
UID:10000489-1738339200-1738440000@www.northamptonvalleycountryclub.com
SUMMARY:Prime Rib Night
DESCRIPTION:Chopped Wedge Salad $12 \nCrispy Cherrywood Bacon\, Heirloom Cherry Tomatoes\, Gorgonzola Blue Cheese Crumbles\, Chives Homemade Russian Dressing \nLobster Macaroni and Cheese $16 \nCavatappi Pasta\, Creamy Alfredo Sauce\, Buttery Lobster  \nPrime Rib $38 \n12oz Salt Crusted Prime Rib\, Baked Potato\, Grilled Asparagus\, Au jus\, Sour Cream Horseradish Sauce \nChocolate Lava Cake $9 \nFresh Berry Compote\, Chantilly Cream \nApple Pie $9 \nVanilla Ice Cream\, Whipped Cream\, Fresh Berries \n 
URL:https://www.northamptonvalleycountryclub.com/event/prime-rib-night-3/
END:VEVENT
BEGIN:VEVENT
DTSTART;TZID=America/New_York:20250204T180000
DTEND;TZID=America/New_York:20250204T200000
DTSTAMP:20260422T103814
CREATED:20241111T205357Z
LAST-MODIFIED:20241111T205357Z
UID:10000475-1738692000-1738699200@www.northamptonvalleycountryclub.com
SUMMARY:Bingo in the Tavern
DESCRIPTION:
URL:https://www.northamptonvalleycountryclub.com/event/bingo-in-the-tavern-6/
END:VEVENT
BEGIN:VEVENT
DTSTART;TZID=America/New_York:20250207T170000
DTEND;TZID=America/New_York:20250208T200000
DTSTAMP:20260422T103814
CREATED:20250131T145307Z
LAST-MODIFIED:20250131T145307Z
UID:10000493-1738947600-1739044800@www.northamptonvalleycountryclub.com
SUMMARY:Comfort Food Night
DESCRIPTION:Tomato Bisque $7 \nMozzarella Crostini \nGrilled Cheese $8 \nProvolone\, Cheddar\, Tomato\, Bacon \nChicken Pot Pie $16 \nSavory Corn\, Tender Vegetables\, Creamy Velouté Sauce \nMeatloaf $18 \nHorseradish Mashed Potatoes\, Onion Rings\, Savory Gravy \nApple Turnover $10 \nVanilla Ice Cream\, Caramel Sauce \nChocolate Cake $9 \nChocolate Sauce\, Fresh Berries\, Whip Cream
URL:https://www.northamptonvalleycountryclub.com/event/comfort-food-night-2/
END:VEVENT
BEGIN:VEVENT
DTSTART;TZID=America/New_York:20250207T183000
DTEND;TZID=America/New_York:20250207T220000
DTSTAMP:20260422T103814
CREATED:20250107T214333Z
LAST-MODIFIED:20250107T214535Z
UID:10000490-1738953000-1738965600@www.northamptonvalleycountryclub.com
SUMMARY:Juliano Brothers
DESCRIPTION:Event Tickets
URL:https://www.northamptonvalleycountryclub.com/event/juliano-brothers/
END:VEVENT
BEGIN:VEVENT
DTSTART;TZID=America/New_York:20250208T180000
DTEND;TZID=America/New_York:20250208T213000
DTSTAMP:20260422T103814
CREATED:20250128T173012Z
LAST-MODIFIED:20250128T173012Z
UID:10000492-1739037600-1739050200@www.northamptonvalleycountryclub.com
SUMMARY:Slay and the City
DESCRIPTION:Register HERE
URL:https://www.northamptonvalleycountryclub.com/event/slay-and-the-city/
END:VEVENT
BEGIN:VEVENT
DTSTART;TZID=America/New_York:20250212T180000
DTEND;TZID=America/New_York:20250212T200000
DTSTAMP:20260422T103814
CREATED:20241111T205844Z
LAST-MODIFIED:20241111T205844Z
UID:10000479-1739383200-1739390400@www.northamptonvalleycountryclub.com
SUMMARY:Trivia in the Tavern
DESCRIPTION:
URL:https://www.northamptonvalleycountryclub.com/event/trivia-in-the-tavern-6/
END:VEVENT
BEGIN:VEVENT
DTSTART;TZID=America/New_York:20250214T170000
DTEND;TZID=America/New_York:20250215T200000
DTSTAMP:20260422T103814
CREATED:20250131T145447Z
LAST-MODIFIED:20250131T145447Z
UID:10000494-1739552400-1739649600@www.northamptonvalleycountryclub.com
SUMMARY:Valentine's Day
DESCRIPTION:Crab and Corn Chowder $7 \nRoasted Corn and Chives \nBaby Watercress Salad $8 \nGrilled Cantaloupe\, Honeydew\, Caramelized Figs\, Thinly Sliced Prosciutto\, Parmesan Cheese\, Toasted Pine Nuts\, Sweet Lemon Vinaigrette \nHeart Shape Maine Lobster Ravioli $24 \nLemon-Fennel Cream Sauce\, Citrus Radicchio Salad \nSurf and Turf $26 \nChar Grilled Flat Iron Steak\, Jumbo Shrimp Skewer\, Arugula\, Crispy Fingerling Potatoes\, Chimichurri Butter \nCherry Pecan Stuffed Chicken $21 \nToasted Barley-Rice Pilaf\, Grilled Zucchini and Yellow Squash\, Apricot Butter Sauce \nDessert for Two $12 \nRed Velvet Cake\, Chocolate Covered Strawberries\, Chocolate Cake
URL:https://www.northamptonvalleycountryclub.com/event/valentines-day/
END:VEVENT
BEGIN:VEVENT
DTSTART;TZID=America/New_York:20250218T180000
DTEND;TZID=America/New_York:20250218T200000
DTSTAMP:20260422T103814
CREATED:20241111T205654Z
LAST-MODIFIED:20241111T205654Z
UID:10000476-1739901600-1739908800@www.northamptonvalleycountryclub.com
SUMMARY:Bingo in the Tavern
DESCRIPTION:
URL:https://www.northamptonvalleycountryclub.com/event/bingo-in-the-tavern-7/
END:VEVENT
BEGIN:VEVENT
DTSTART;TZID=America/New_York:20250221T170000
DTEND;TZID=America/New_York:20250222T200000
DTSTAMP:20260422T103814
CREATED:20250131T145641Z
LAST-MODIFIED:20250131T145641Z
UID:10000495-1740157200-1740254400@www.northamptonvalleycountryclub.com
SUMMARY:Meat & Potatoes Dinner Specials
DESCRIPTION:Potato Leek Soup $7 \nFrizzled Leeks \nCrispy Potato Wedges $10 \nGarlic Butter\, Parmesan Cheese\, Chives \nSmoked Pork Chop $22 \nSour Cream Mashed Potatoes\, Vegetable Medley\, Roasted Apple Demi \nShort Rib Poutine $24 \nButter Garlic Fingerling Potatoes\, Cheese Curds\, Braised Short Rib\, Demi-Glace   \nRed Velvet Cake $9 \nChocolate Sauce\, Whipped Cream \nChocolate Cake $9 \nFresh Berries\, Whipped Cream
URL:https://www.northamptonvalleycountryclub.com/event/meat-potatoes-dinner-specials-2/
END:VEVENT
BEGIN:VEVENT
DTSTART;TZID=America/New_York:20250226T180000
DTEND;TZID=America/New_York:20250226T200000
DTSTAMP:20260422T103814
CREATED:20241111T205916Z
LAST-MODIFIED:20241111T205916Z
UID:10000480-1740592800-1740600000@www.northamptonvalleycountryclub.com
SUMMARY:Trivia in the Tavern
DESCRIPTION:
URL:https://www.northamptonvalleycountryclub.com/event/trivia-in-the-tavern-7/
END:VEVENT
BEGIN:VEVENT
DTSTART;TZID=America/New_York:20250228T170000
DTEND;TZID=America/New_York:20250301T200000
DTSTAMP:20260422T103814
CREATED:20250131T145808Z
LAST-MODIFIED:20250131T151823Z
UID:10000496-1740762000-1740859200@www.northamptonvalleycountryclub.com
SUMMARY:Soul Food Dinner Specials
DESCRIPTION:Breaded Tiger Shrimp \nCajun Remoulade\, Homemade Sweet and Spicy Pickles  \nBeef Short Rib Chili $8 \nJalapeno-Cheddar Cornbread \nSouthern Style Fried Chicken $16 \nPotato Wedges\, Cole Slaw \nBaby Back Ribs $20 \nBaked Beans\, Cole Slaw \nPeach Cobbler $9 \nIce Cream\, Caramel Sauce\, Fresh Berries \nBanana Pudding $8 \nWhipped Cream\, Caramelized Bananas \n 
URL:https://www.northamptonvalleycountryclub.com/event/soul-food-dinner-specials/
END:VEVENT
END:VCALENDAR