BEGIN:VCALENDAR
VERSION:2.0
PRODID:-//Northampton Valley Country Club - ECPv6.15.18//NONSGML v1.0//EN
CALSCALE:GREGORIAN
METHOD:PUBLISH
X-ORIGINAL-URL:https://www.northamptonvalleycountryclub.com
X-WR-CALDESC:Events for Northampton Valley Country Club
REFRESH-INTERVAL;VALUE=DURATION:PT1H
X-Robots-Tag:noindex
X-PUBLISHED-TTL:PT1H
BEGIN:VTIMEZONE
TZID:America/New_York
BEGIN:DAYLIGHT
TZOFFSETFROM:-0500
TZOFFSETTO:-0400
TZNAME:EDT
DTSTART:20240310T070000
END:DAYLIGHT
BEGIN:STANDARD
TZOFFSETFROM:-0400
TZOFFSETTO:-0500
TZNAME:EST
DTSTART:20241103T060000
END:STANDARD
BEGIN:DAYLIGHT
TZOFFSETFROM:-0500
TZOFFSETTO:-0400
TZNAME:EDT
DTSTART:20250309T070000
END:DAYLIGHT
BEGIN:STANDARD
TZOFFSETFROM:-0400
TZOFFSETTO:-0500
TZNAME:EST
DTSTART:20251102T060000
END:STANDARD
BEGIN:DAYLIGHT
TZOFFSETFROM:-0500
TZOFFSETTO:-0400
TZNAME:EDT
DTSTART:20260308T070000
END:DAYLIGHT
BEGIN:STANDARD
TZOFFSETFROM:-0400
TZOFFSETTO:-0500
TZNAME:EST
DTSTART:20261101T060000
END:STANDARD
END:VTIMEZONE
BEGIN:VEVENT
DTSTART;TZID=America/New_York:20250103T160000
DTEND;TZID=America/New_York:20250104T200000
DTSTAMP:20260422T121112
CREATED:20241230T194310Z
LAST-MODIFIED:20241230T194310Z
UID:10000485-1735920000-1736020800@www.northamptonvalleycountryclub.com
SUMMARY:Quesadilla Night
DESCRIPTION:Steak Nachos \nCrispy Corn Tortillas\, Cheddar Cheese\, Shredded Lettuce\, Tomato\, Scallions\, Steak\, Salsa Verde \nQuesadilla Birria \nCheddar Jack Cheese\, Braised Short Rib\, Jus with Cilantro and Onion \nShrimp Quesadilla \nCheddar Jack Cheese\, Grilled Shrimp\, Pico de Gallo \nCarnitas Quesadilla \nCheddar Jack Cheese\, Shredded Braised Pork\, Red Chili Sauce  \nApple Pie \nVanilla Ice Cream\, Caramel Sauce \nReese’s Cup Brownie Sundae \nWarm Brownie\, Vanilla Ice Cream\, Chocolate Sauce\, Whipped Cream
URL:https://www.northamptonvalleycountryclub.com/event/quesadilla-night-4/
END:VEVENT
BEGIN:VEVENT
DTSTART;TZID=America/New_York:20250107T180000
DTEND;TZID=America/New_York:20250107T200000
DTSTAMP:20260422T121112
CREATED:20241111T205301Z
LAST-MODIFIED:20241111T205301Z
UID:10000473-1736272800-1736280000@www.northamptonvalleycountryclub.com
SUMMARY:Bingo in the Tavern
DESCRIPTION:
URL:https://www.northamptonvalleycountryclub.com/event/bingo-in-the-tavern-4/
END:VEVENT
BEGIN:VEVENT
DTSTART;TZID=America/New_York:20250110T160000
DTEND;TZID=America/New_York:20250111T200000
DTSTAMP:20260422T121112
CREATED:20241230T194541Z
LAST-MODIFIED:20241230T194541Z
UID:10000486-1736524800-1736625600@www.northamptonvalleycountryclub.com
SUMMARY:Cheesesteak Night
DESCRIPTION:Dumpster Fries \nCrispy Fries\, Chopped Chicken Tenders\, Bacon Bits\, Scallions\, Cheese Sauce \nBuffalo Chicken Eggrolls \nBlue Cheese \nShort Rib Cheese Cheesesteak \nAmerican Cheese\, Fried Onions\, Short Rib Gravy \nChopped Pork \nSavory Pork\, Roasted Red Peppers\, Sautéed Spinach\, Provolone Cheese\, Roasted Garlic Aioli \nSouthwest Chicken Cheesesteak \nPepper jack Cheese\, Peppers and Onion\, Jalapeno Ranch \nChocolate Cake \nChocolate Sauce\, Whipped Cream Fresh Berries   \nBanana Chocolate Cake   \nCaramel Sauce\, Whipped Cream\, Fresh Berries
URL:https://www.northamptonvalleycountryclub.com/event/cheesesteak-night-2/
END:VEVENT
BEGIN:VEVENT
DTSTART;TZID=America/New_York:20250115T180000
DTEND;TZID=America/New_York:20250115T200000
DTSTAMP:20260422T121112
CREATED:20241111T205745Z
LAST-MODIFIED:20250108T181639Z
UID:10000477-1736964000-1736971200@www.northamptonvalleycountryclub.com
SUMMARY:NO Trivia in the Tavern
DESCRIPTION:Trivia is canceled due to a private event in the Tavern
URL:https://www.northamptonvalleycountryclub.com/event/trivia-in-the-tavern-4/
END:VEVENT
BEGIN:VEVENT
DTSTART;TZID=America/New_York:20250117T160000
DTEND;TZID=America/New_York:20250118T200000
DTSTAMP:20260422T121112
CREATED:20250107T205929Z
LAST-MODIFIED:20250107T205929Z
UID:10000487-1737129600-1737230400@www.northamptonvalleycountryclub.com
SUMMARY:Taco Night
DESCRIPTION:Chicken Tortilla Soup $8 \nChips and Dips $9 \nCrispy Tortilla Chips\, Homemade Salsa\, Guacamole   \nShrimp Tacos $17 \nGrilled Shrimp\, Salsa Verde\, Cilantro\, Onion \nChorizo Tacos $15 \nGround Chorizo\, Avocado Crema\, Queso Fresco Cilantro\, Onion   \nBirria Tacos $18 \nShredded Short Rib\, Cilantro\, Onion\, Short Rib Broth \nChurros $8 \nVanilla Ice Cream\, Caramel Sauce\, Whipped Cream \nWarm Apple Turnover $9 \nVanilla Ice Cream\, Caramel Sauce \n 
URL:https://www.northamptonvalleycountryclub.com/event/taco-night-3/
END:VEVENT
BEGIN:VEVENT
DTSTART;TZID=America/New_York:20250121T180000
DTEND;TZID=America/New_York:20250121T200000
DTSTAMP:20260422T121112
CREATED:20241111T205327Z
LAST-MODIFIED:20241111T205622Z
UID:10000474-1737482400-1737489600@www.northamptonvalleycountryclub.com
SUMMARY:Bingo in the Tavern
DESCRIPTION:
URL:https://www.northamptonvalleycountryclub.com/event/bingo-in-the-tavern-5/
END:VEVENT
BEGIN:VEVENT
DTSTART;TZID=America/New_York:20250124T160000
DTEND;TZID=America/New_York:20250125T200000
DTSTAMP:20260422T121112
CREATED:20250107T210221Z
LAST-MODIFIED:20250107T210302Z
UID:10000488-1737734400-1737835200@www.northamptonvalleycountryclub.com
SUMMARY:Burger Night
DESCRIPTION:Rosemary-Parmesan Gravy Fries $10 \nSeasoned Fries with Savory Beef Gravy \nLoaded Cheese Fries $10 \nCheese Sauce\, Bacon\, Tomato\, Scallions\, Chipotle Ranch  \nBrunch Burger $16 \n8oz Burger\, Pork Roll\, Fried Egg\, American Cheese\, Tater Tots \nB.L.T Burger $16 \n8oz Turkey Burger\, Turkey Bacon\, Lettuce\, Tomato\, Ketchup Aioli\, House Salad   \nVenison Burger $22 \n8oz Venison Burger\, Aged White Cheddar Cheese\, Caramelized Onion and Cherry Jam\, Onion Rings    \nPecan Pie $9 \nVanilla Ice Cream\, Caramel Sauce \nCheesecake $9 \nFresh Berries\, Raspberry Sauce
URL:https://www.northamptonvalleycountryclub.com/event/burger-night-5/
END:VEVENT
BEGIN:VEVENT
DTSTART;TZID=America/New_York:20250129T180000
DTEND;TZID=America/New_York:20250129T200000
DTSTAMP:20260422T121112
CREATED:20241111T205812Z
LAST-MODIFIED:20241111T205812Z
UID:10000478-1738173600-1738180800@www.northamptonvalleycountryclub.com
SUMMARY:Trivia in the Tavern
DESCRIPTION:
URL:https://www.northamptonvalleycountryclub.com/event/trivia-in-the-tavern-5/
END:VEVENT
BEGIN:VEVENT
DTSTART;TZID=America/New_York:20250131T160000
DTEND;TZID=America/New_York:20250201T200000
DTSTAMP:20260422T121112
CREATED:20250107T210516Z
LAST-MODIFIED:20250107T214118Z
UID:10000489-1738339200-1738440000@www.northamptonvalleycountryclub.com
SUMMARY:Prime Rib Night
DESCRIPTION:Chopped Wedge Salad $12 \nCrispy Cherrywood Bacon\, Heirloom Cherry Tomatoes\, Gorgonzola Blue Cheese Crumbles\, Chives Homemade Russian Dressing \nLobster Macaroni and Cheese $16 \nCavatappi Pasta\, Creamy Alfredo Sauce\, Buttery Lobster  \nPrime Rib $38 \n12oz Salt Crusted Prime Rib\, Baked Potato\, Grilled Asparagus\, Au jus\, Sour Cream Horseradish Sauce \nChocolate Lava Cake $9 \nFresh Berry Compote\, Chantilly Cream \nApple Pie $9 \nVanilla Ice Cream\, Whipped Cream\, Fresh Berries \n 
URL:https://www.northamptonvalleycountryclub.com/event/prime-rib-night-3/
END:VEVENT
END:VCALENDAR