BEGIN:VCALENDAR
VERSION:2.0
PRODID:-//Northampton Valley Country Club - ECPv6.15.18//NONSGML v1.0//EN
CALSCALE:GREGORIAN
METHOD:PUBLISH
X-ORIGINAL-URL:https://www.northamptonvalleycountryclub.com
X-WR-CALDESC:Events for Northampton Valley Country Club
REFRESH-INTERVAL;VALUE=DURATION:PT1H
X-Robots-Tag:noindex
X-PUBLISHED-TTL:PT1H
BEGIN:VTIMEZONE
TZID:America/New_York
BEGIN:DAYLIGHT
TZOFFSETFROM:-0500
TZOFFSETTO:-0400
TZNAME:EDT
DTSTART:20230312T070000
END:DAYLIGHT
BEGIN:STANDARD
TZOFFSETFROM:-0400
TZOFFSETTO:-0500
TZNAME:EST
DTSTART:20231105T060000
END:STANDARD
BEGIN:DAYLIGHT
TZOFFSETFROM:-0500
TZOFFSETTO:-0400
TZNAME:EDT
DTSTART:20240310T070000
END:DAYLIGHT
BEGIN:STANDARD
TZOFFSETFROM:-0400
TZOFFSETTO:-0500
TZNAME:EST
DTSTART:20241103T060000
END:STANDARD
BEGIN:DAYLIGHT
TZOFFSETFROM:-0500
TZOFFSETTO:-0400
TZNAME:EDT
DTSTART:20250309T070000
END:DAYLIGHT
BEGIN:STANDARD
TZOFFSETFROM:-0400
TZOFFSETTO:-0500
TZNAME:EST
DTSTART:20251102T060000
END:STANDARD
END:VTIMEZONE
BEGIN:VEVENT
DTSTART;TZID=America/New_York:20241204T180000
DTEND;TZID=America/New_York:20241204T200000
DTSTAMP:20260424T214304
CREATED:20241111T205050Z
LAST-MODIFIED:20241111T205050Z
UID:10000470-1733335200-1733342400@www.northamptonvalleycountryclub.com
SUMMARY:Trivia in the Tavern
DESCRIPTION:
URL:https://www.northamptonvalleycountryclub.com/event/trivia-in-the-tavern-2/
END:VEVENT
BEGIN:VEVENT
DTSTART;TZID=America/New_York:20241206T160000
DTEND;TZID=America/New_York:20241207T200000
DTSTAMP:20260424T214304
CREATED:20241126T171442Z
LAST-MODIFIED:20241126T171442Z
UID:10000481-1733500800-1733601600@www.northamptonvalleycountryclub.com
SUMMARY:Philly Night
DESCRIPTION:Broccoli Cheddar \nCheddar Cheese and Bacon \nOld Bay Fries \nOld Bay\, White Cheddar Cheese Sauce\, Crab Meat \nChopped Roast Pork \nRoasted Red Peppers\, Spinach\, Provolone Cheese\, Roasted Garlic Aioli \nPrime Rib Cheesesteak \nThinly Sliced Prime Rib\, Melted Cooper Sharp Cheese\, Fried Onions   \nPhiladelphia Cream Cheese Cheesecake \nFresh Berries\, Whipped Cream \nCaramel Apple Pie Ala Mode \nWarm Apple Pie\, Vanilla Ice Cream\, Caramel Sauce
URL:https://www.northamptonvalleycountryclub.com/event/philly-night-3/
END:VEVENT
BEGIN:VEVENT
DTSTART;TZID=America/New_York:20241208T110000
DTEND;TZID=America/New_York:20241208T140000
DTSTAMP:20260424T214304
CREATED:20241029T135210Z
LAST-MODIFIED:20241029T140426Z
UID:10000465-1733655600-1733666400@www.northamptonvalleycountryclub.com
SUMMARY:Brunch with Santa
DESCRIPTION:  \n🎅✨ Join us for a magical Brunch with Santa at Northampton Valley Country Club! 🎉 \n📅 Date: Sunday\, December 8\, 2024 \n🕚 Time: 11 AM – 2 PM \n📍 Location: Crystal Ballroom\, 299 Newtown-Richboro Rd.\, Richboro\, PA 18954 \nIndulge in a delicious brunch crafted by our executive chef\, Dean\, while the little ones enjoy face painting and a special chance to snap a photo with Santa! 📸❤️ \nReservations are limited\, so secure your spot today! Call us at 215.355.2234 ext. 11 or email meghan.omalley@nvgc.com. \n \n 
URL:https://www.northamptonvalleycountryclub.com/event/brunch-with-santa-2/
END:VEVENT
BEGIN:VEVENT
DTSTART;TZID=America/New_York:20241210T180000
DTEND;TZID=America/New_York:20241210T200000
DTSTAMP:20260424T214304
CREATED:20241111T205150Z
LAST-MODIFIED:20241111T205546Z
UID:10000472-1733853600-1733860800@www.northamptonvalleycountryclub.com
SUMMARY:Bingo in the Tavern
DESCRIPTION:
URL:https://www.northamptonvalleycountryclub.com/event/bingo-in-the-tavern-3/
END:VEVENT
BEGIN:VEVENT
DTSTART;TZID=America/New_York:20241213T160000
DTEND;TZID=America/New_York:20241214T200000
DTSTAMP:20260424T214304
CREATED:20241126T171603Z
LAST-MODIFIED:20241126T171628Z
UID:10000482-1734105600-1734206400@www.northamptonvalleycountryclub.com
SUMMARY:Soul Food Night
DESCRIPTION:White Bean and Ham \nBeef Short Rib Chili \nJalapeno-Cheddar Cornbread \nSouthern Style Fried Chicken \nPotato Wedges\, Cole Slaw \nCrab Cakes \nRoasted Fingerling Potatoes\, Sautéed Spinach\, Lemon Garlic Remoulade \nSweet Potato Cheesecake \nFresh Berries\, Caramel Sauce\, Whipped Cream   \nPecan Pie \nFresh Berries\, Whipped Cream
URL:https://www.northamptonvalleycountryclub.com/event/soul-food-night/
END:VEVENT
BEGIN:VEVENT
DTSTART;TZID=America/New_York:20241218T180000
DTEND;TZID=America/New_York:20241218T200000
DTSTAMP:20260424T214304
CREATED:20241111T205126Z
LAST-MODIFIED:20241111T205446Z
UID:10000471-1734544800-1734552000@www.northamptonvalleycountryclub.com
SUMMARY:Trivia in the Tavern
DESCRIPTION:
URL:https://www.northamptonvalleycountryclub.com/event/trivia-in-the-tavern-3/
END:VEVENT
BEGIN:VEVENT
DTSTART;TZID=America/New_York:20241220T160000
DTEND;TZID=America/New_York:20241221T200000
DTSTAMP:20260424T214304
CREATED:20241126T171753Z
LAST-MODIFIED:20241126T171753Z
UID:10000483-1734710400-1734811200@www.northamptonvalleycountryclub.com
SUMMARY:"Christmas Dinner" Specials
DESCRIPTION:Winter Salad \nMix Greens\, Roasted Butternut Squash\, Sliced Pears\, Dried Cherries\, Feta Cheese\, Brown Sugar Croutons\, Candied Walnut Vinaigrette \nSplit Pea and Ham Soup \nWith Crispy Shallots \nMustard Glazed Pork Loin \nRoasted Sweet and Savory Potatoes\, Brussel Sprouts\, Apple Cranberry Chutney \nLemon Herb Roasted Half Chicken \nButter Whipped Potatoes\, Brussels sprouts\, Chicken Jus \nWarm Apple Pie \nVanilla Ice Cream\, Caramel Sauce \nDouble Chocolate Cheesecake \nChocolate Sauce\, Fresh Berries\, Whipped Cream
URL:https://www.northamptonvalleycountryclub.com/event/christmas-dinner-specials/
END:VEVENT
BEGIN:VEVENT
DTSTART;TZID=America/New_York:20241227T160000
DTEND;TZID=America/New_York:20241228T200000
DTSTAMP:20260424T214304
CREATED:20241126T171913Z
LAST-MODIFIED:20241126T171913Z
UID:10000484-1735315200-1735416000@www.northamptonvalleycountryclub.com
SUMMARY:Meat & Potato Dinner Specials
DESCRIPTION:Potato Leek Soup   \nFrizzled Leeks \nCrispy Potato Wedges  \nGarlic Butter\, Parmesan Cheese\, Chives \nSmoked Pork Chop \nSour Cream Mashed Potatoes\, Vegetable Medley\, Roasted Apple Demi \nShort Rib Poutine \nButter Garlic Fingerling Potatoes\, Cheese Curds\, Braised Short Rib\, Demi-Glace   \nRed Velvet Cake \nChocolate Sauce\, Whipped Cream \nChocolate Cake \nFresh Berries\, Whipped Cream
URL:https://www.northamptonvalleycountryclub.com/event/meat-potato-dinner-specials/
END:VEVENT
END:VCALENDAR