BEGIN:VCALENDAR
VERSION:2.0
PRODID:-//Northampton Valley Country Club - ECPv6.15.18//NONSGML v1.0//EN
CALSCALE:GREGORIAN
METHOD:PUBLISH
X-ORIGINAL-URL:https://www.northamptonvalleycountryclub.com
X-WR-CALDESC:Events for Northampton Valley Country Club
REFRESH-INTERVAL;VALUE=DURATION:PT1H
X-Robots-Tag:noindex
X-PUBLISHED-TTL:PT1H
BEGIN:VTIMEZONE
TZID:America/New_York
BEGIN:DAYLIGHT
TZOFFSETFROM:-0500
TZOFFSETTO:-0400
TZNAME:EDT
DTSTART:20240310T070000
END:DAYLIGHT
BEGIN:STANDARD
TZOFFSETFROM:-0400
TZOFFSETTO:-0500
TZNAME:EST
DTSTART:20241103T060000
END:STANDARD
BEGIN:DAYLIGHT
TZOFFSETFROM:-0500
TZOFFSETTO:-0400
TZNAME:EDT
DTSTART:20250309T070000
END:DAYLIGHT
BEGIN:STANDARD
TZOFFSETFROM:-0400
TZOFFSETTO:-0500
TZNAME:EST
DTSTART:20251102T060000
END:STANDARD
BEGIN:DAYLIGHT
TZOFFSETFROM:-0500
TZOFFSETTO:-0400
TZNAME:EDT
DTSTART:20260308T070000
END:DAYLIGHT
BEGIN:STANDARD
TZOFFSETFROM:-0400
TZOFFSETTO:-0500
TZNAME:EST
DTSTART:20261101T060000
END:STANDARD
END:VTIMEZONE
BEGIN:VEVENT
DTSTART;TZID=America/New_York:20250214T170000
DTEND;TZID=America/New_York:20250215T200000
DTSTAMP:20260422T135724
CREATED:20250131T145447Z
LAST-MODIFIED:20250131T145447Z
UID:10000494-1739552400-1739649600@www.northamptonvalleycountryclub.com
SUMMARY:Valentine's Day
DESCRIPTION:Crab and Corn Chowder $7 \nRoasted Corn and Chives \nBaby Watercress Salad $8 \nGrilled Cantaloupe\, Honeydew\, Caramelized Figs\, Thinly Sliced Prosciutto\, Parmesan Cheese\, Toasted Pine Nuts\, Sweet Lemon Vinaigrette \nHeart Shape Maine Lobster Ravioli $24 \nLemon-Fennel Cream Sauce\, Citrus Radicchio Salad \nSurf and Turf $26 \nChar Grilled Flat Iron Steak\, Jumbo Shrimp Skewer\, Arugula\, Crispy Fingerling Potatoes\, Chimichurri Butter \nCherry Pecan Stuffed Chicken $21 \nToasted Barley-Rice Pilaf\, Grilled Zucchini and Yellow Squash\, Apricot Butter Sauce \nDessert for Two $12 \nRed Velvet Cake\, Chocolate Covered Strawberries\, Chocolate Cake
URL:https://www.northamptonvalleycountryclub.com/event/valentines-day/
END:VEVENT
END:VCALENDAR