BEGIN:VCALENDAR
VERSION:2.0
PRODID:-//Northampton Valley Country Club - ECPv6.15.18//NONSGML v1.0//EN
CALSCALE:GREGORIAN
METHOD:PUBLISH
X-WR-CALNAME:Northampton Valley Country Club
X-ORIGINAL-URL:https://www.northamptonvalleycountryclub.com
X-WR-CALDESC:Events for Northampton Valley Country Club
REFRESH-INTERVAL;VALUE=DURATION:PT1H
X-Robots-Tag:noindex
X-PUBLISHED-TTL:PT1H
BEGIN:VTIMEZONE
TZID:America/New_York
BEGIN:DAYLIGHT
TZOFFSETFROM:-0500
TZOFFSETTO:-0400
TZNAME:EDT
DTSTART:20240310T070000
END:DAYLIGHT
BEGIN:STANDARD
TZOFFSETFROM:-0400
TZOFFSETTO:-0500
TZNAME:EST
DTSTART:20241103T060000
END:STANDARD
BEGIN:DAYLIGHT
TZOFFSETFROM:-0500
TZOFFSETTO:-0400
TZNAME:EDT
DTSTART:20250309T070000
END:DAYLIGHT
BEGIN:STANDARD
TZOFFSETFROM:-0400
TZOFFSETTO:-0500
TZNAME:EST
DTSTART:20251102T060000
END:STANDARD
BEGIN:DAYLIGHT
TZOFFSETFROM:-0500
TZOFFSETTO:-0400
TZNAME:EDT
DTSTART:20260308T070000
END:DAYLIGHT
BEGIN:STANDARD
TZOFFSETFROM:-0400
TZOFFSETTO:-0500
TZNAME:EST
DTSTART:20261101T060000
END:STANDARD
END:VTIMEZONE
BEGIN:VEVENT
DTSTART;TZID=America/New_York:20250207T170000
DTEND;TZID=America/New_York:20250208T200000
DTSTAMP:20260422T135643
CREATED:20250131T145307Z
LAST-MODIFIED:20250131T145307Z
UID:10000493-1738947600-1739044800@www.northamptonvalleycountryclub.com
SUMMARY:Comfort Food Night
DESCRIPTION:Tomato Bisque $7 \nMozzarella Crostini \nGrilled Cheese $8 \nProvolone\, Cheddar\, Tomato\, Bacon \nChicken Pot Pie $16 \nSavory Corn\, Tender Vegetables\, Creamy Velouté Sauce \nMeatloaf $18 \nHorseradish Mashed Potatoes\, Onion Rings\, Savory Gravy \nApple Turnover $10 \nVanilla Ice Cream\, Caramel Sauce \nChocolate Cake $9 \nChocolate Sauce\, Fresh Berries\, Whip Cream
URL:https://www.northamptonvalleycountryclub.com/event/comfort-food-night-2/
END:VEVENT
BEGIN:VEVENT
DTSTART;TZID=America/New_York:20250208T180000
DTEND;TZID=America/New_York:20250208T213000
DTSTAMP:20260422T135643
CREATED:20250128T173012Z
LAST-MODIFIED:20250128T173012Z
UID:10000492-1739037600-1739050200@www.northamptonvalleycountryclub.com
SUMMARY:Slay and the City
DESCRIPTION:Register HERE
URL:https://www.northamptonvalleycountryclub.com/event/slay-and-the-city/
END:VEVENT
END:VCALENDAR