BEGIN:VCALENDAR
VERSION:2.0
PRODID:-//Northampton Valley Country Club - ECPv6.15.18//NONSGML v1.0//EN
CALSCALE:GREGORIAN
METHOD:PUBLISH
X-ORIGINAL-URL:https://www.northamptonvalleycountryclub.com
X-WR-CALDESC:Events for Northampton Valley Country Club
REFRESH-INTERVAL;VALUE=DURATION:PT1H
X-Robots-Tag:noindex
X-PUBLISHED-TTL:PT1H
BEGIN:VTIMEZONE
TZID:America/New_York
BEGIN:DAYLIGHT
TZOFFSETFROM:-0500
TZOFFSETTO:-0400
TZNAME:EDT
DTSTART:20240310T070000
END:DAYLIGHT
BEGIN:STANDARD
TZOFFSETFROM:-0400
TZOFFSETTO:-0500
TZNAME:EST
DTSTART:20241103T060000
END:STANDARD
BEGIN:DAYLIGHT
TZOFFSETFROM:-0500
TZOFFSETTO:-0400
TZNAME:EDT
DTSTART:20250309T070000
END:DAYLIGHT
BEGIN:STANDARD
TZOFFSETFROM:-0400
TZOFFSETTO:-0500
TZNAME:EST
DTSTART:20251102T060000
END:STANDARD
BEGIN:DAYLIGHT
TZOFFSETFROM:-0500
TZOFFSETTO:-0400
TZNAME:EDT
DTSTART:20260308T070000
END:DAYLIGHT
BEGIN:STANDARD
TZOFFSETFROM:-0400
TZOFFSETTO:-0500
TZNAME:EST
DTSTART:20261101T060000
END:STANDARD
END:VTIMEZONE
BEGIN:VEVENT
DTSTART;TZID=America/New_York:20250131T160000
DTEND;TZID=America/New_York:20250201T200000
DTSTAMP:20260422T135730
CREATED:20250107T210516Z
LAST-MODIFIED:20250107T214118Z
UID:10000489-1738339200-1738440000@www.northamptonvalleycountryclub.com
SUMMARY:Prime Rib Night
DESCRIPTION:Chopped Wedge Salad $12 \nCrispy Cherrywood Bacon\, Heirloom Cherry Tomatoes\, Gorgonzola Blue Cheese Crumbles\, Chives Homemade Russian Dressing \nLobster Macaroni and Cheese $16 \nCavatappi Pasta\, Creamy Alfredo Sauce\, Buttery Lobster  \nPrime Rib $38 \n12oz Salt Crusted Prime Rib\, Baked Potato\, Grilled Asparagus\, Au jus\, Sour Cream Horseradish Sauce \nChocolate Lava Cake $9 \nFresh Berry Compote\, Chantilly Cream \nApple Pie $9 \nVanilla Ice Cream\, Whipped Cream\, Fresh Berries \n 
URL:https://www.northamptonvalleycountryclub.com/event/prime-rib-night-3/
END:VEVENT
END:VCALENDAR