BEGIN:VCALENDAR
VERSION:2.0
PRODID:-//Northampton Valley Country Club - ECPv6.15.18//NONSGML v1.0//EN
CALSCALE:GREGORIAN
METHOD:PUBLISH
X-ORIGINAL-URL:https://www.northamptonvalleycountryclub.com
X-WR-CALDESC:Events for Northampton Valley Country Club
REFRESH-INTERVAL;VALUE=DURATION:PT1H
X-Robots-Tag:noindex
X-PUBLISHED-TTL:PT1H
BEGIN:VTIMEZONE
TZID:America/New_York
BEGIN:DAYLIGHT
TZOFFSETFROM:-0500
TZOFFSETTO:-0400
TZNAME:EDT
DTSTART:20230312T070000
END:DAYLIGHT
BEGIN:STANDARD
TZOFFSETFROM:-0400
TZOFFSETTO:-0500
TZNAME:EST
DTSTART:20231105T060000
END:STANDARD
BEGIN:DAYLIGHT
TZOFFSETFROM:-0500
TZOFFSETTO:-0400
TZNAME:EDT
DTSTART:20240310T070000
END:DAYLIGHT
BEGIN:STANDARD
TZOFFSETFROM:-0400
TZOFFSETTO:-0500
TZNAME:EST
DTSTART:20241103T060000
END:STANDARD
BEGIN:DAYLIGHT
TZOFFSETFROM:-0500
TZOFFSETTO:-0400
TZNAME:EDT
DTSTART:20250309T070000
END:DAYLIGHT
BEGIN:STANDARD
TZOFFSETFROM:-0400
TZOFFSETTO:-0500
TZNAME:EST
DTSTART:20251102T060000
END:STANDARD
END:VTIMEZONE
BEGIN:VEVENT
DTSTART;TZID=America/New_York:20241208T110000
DTEND;TZID=America/New_York:20241208T140000
DTSTAMP:20260424T214124
CREATED:20241029T135210Z
LAST-MODIFIED:20241029T140426Z
UID:10000465-1733655600-1733666400@www.northamptonvalleycountryclub.com
SUMMARY:Brunch with Santa
DESCRIPTION:  \n🎅✨ Join us for a magical Brunch with Santa at Northampton Valley Country Club! 🎉 \n📅 Date: Sunday\, December 8\, 2024 \n🕚 Time: 11 AM – 2 PM \n📍 Location: Crystal Ballroom\, 299 Newtown-Richboro Rd.\, Richboro\, PA 18954 \nIndulge in a delicious brunch crafted by our executive chef\, Dean\, while the little ones enjoy face painting and a special chance to snap a photo with Santa! 📸❤️ \nReservations are limited\, so secure your spot today! Call us at 215.355.2234 ext. 11 or email meghan.omalley@nvgc.com. \n \n 
URL:https://www.northamptonvalleycountryclub.com/event/brunch-with-santa-2/
END:VEVENT
END:VCALENDAR