BEGIN:VCALENDAR
VERSION:2.0
PRODID:-//Northampton Valley Country Club - ECPv6.15.18//NONSGML v1.0//EN
CALSCALE:GREGORIAN
METHOD:PUBLISH
X-WR-CALNAME:Northampton Valley Country Club
X-ORIGINAL-URL:https://www.northamptonvalleycountryclub.com
X-WR-CALDESC:Events for Northampton Valley Country Club
REFRESH-INTERVAL;VALUE=DURATION:PT1H
X-Robots-Tag:noindex
X-PUBLISHED-TTL:PT1H
BEGIN:VTIMEZONE
TZID:America/New_York
BEGIN:DAYLIGHT
TZOFFSETFROM:-0500
TZOFFSETTO:-0400
TZNAME:EDT
DTSTART:20230312T070000
END:DAYLIGHT
BEGIN:STANDARD
TZOFFSETFROM:-0400
TZOFFSETTO:-0500
TZNAME:EST
DTSTART:20231105T060000
END:STANDARD
BEGIN:DAYLIGHT
TZOFFSETFROM:-0500
TZOFFSETTO:-0400
TZNAME:EDT
DTSTART:20240310T070000
END:DAYLIGHT
BEGIN:STANDARD
TZOFFSETFROM:-0400
TZOFFSETTO:-0500
TZNAME:EST
DTSTART:20241103T060000
END:STANDARD
BEGIN:DAYLIGHT
TZOFFSETFROM:-0500
TZOFFSETTO:-0400
TZNAME:EDT
DTSTART:20250309T070000
END:DAYLIGHT
BEGIN:STANDARD
TZOFFSETFROM:-0400
TZOFFSETTO:-0500
TZNAME:EST
DTSTART:20251102T060000
END:STANDARD
END:VTIMEZONE
BEGIN:VEVENT
DTSTART;TZID=America/New_York:20241115T170000
DTEND;TZID=America/New_York:20241116T200000
DTSTAMP:20260425T084254
CREATED:20241023T152013Z
LAST-MODIFIED:20241023T152013Z
UID:10000462-1731690000-1731787200@www.northamptonvalleycountryclub.com
SUMMARY:Quesadilla Dinner Specials
DESCRIPTION:Steak Nachos \nCrispy Corn Tortillas\, Cheddar Cheese\, Shredded Lettuce\, Tomato\, Scallions\, Steak\, Salsa Verde \nQuesadilla Birria \nCheddar Jack Cheese\, Braised Short Rib\, Jus with Cilantro and Onion \nShrimp Quesadilla \nCheddar Jack Cheese\, Grilled Shrimp\, Pico de Gallo \nCarnitas Quesadilla \nCheddar Jack Cheese\, Shredded Braised Pork\, Red Chili Sauce  \nChurros \nVanilla Ice Cream\, Caramel Sauce \nReese’s Cup Brownie Sundae \nWarm Brownie\, Vanilla Ice Cream\, Chocolate Sauce\, Whipped Cream
URL:https://www.northamptonvalleycountryclub.com/event/quesadilla-dinner-specials/
END:VEVENT
END:VCALENDAR