BEGIN:VCALENDAR
VERSION:2.0
PRODID:-//Northampton Valley Country Club - ECPv6.15.18//NONSGML v1.0//EN
CALSCALE:GREGORIAN
METHOD:PUBLISH
X-WR-CALNAME:Northampton Valley Country Club
X-ORIGINAL-URL:https://www.northamptonvalleycountryclub.com
X-WR-CALDESC:Events for Northampton Valley Country Club
REFRESH-INTERVAL;VALUE=DURATION:PT1H
X-Robots-Tag:noindex
X-PUBLISHED-TTL:PT1H
BEGIN:VTIMEZONE
TZID:America/New_York
BEGIN:DAYLIGHT
TZOFFSETFROM:-0500
TZOFFSETTO:-0400
TZNAME:EDT
DTSTART:20230312T070000
END:DAYLIGHT
BEGIN:STANDARD
TZOFFSETFROM:-0400
TZOFFSETTO:-0500
TZNAME:EST
DTSTART:20231105T060000
END:STANDARD
BEGIN:DAYLIGHT
TZOFFSETFROM:-0500
TZOFFSETTO:-0400
TZNAME:EDT
DTSTART:20240310T070000
END:DAYLIGHT
BEGIN:STANDARD
TZOFFSETFROM:-0400
TZOFFSETTO:-0500
TZNAME:EST
DTSTART:20241103T060000
END:STANDARD
BEGIN:DAYLIGHT
TZOFFSETFROM:-0500
TZOFFSETTO:-0400
TZNAME:EDT
DTSTART:20250309T070000
END:DAYLIGHT
BEGIN:STANDARD
TZOFFSETFROM:-0400
TZOFFSETTO:-0500
TZNAME:EST
DTSTART:20251102T060000
END:STANDARD
END:VTIMEZONE
BEGIN:VEVENT
DTSTART;VALUE=DATE:20241021
DTEND;VALUE=DATE:20241026
DTSTAMP:20260425T084153
CREATED:20240806T173828Z
LAST-MODIFIED:20240806T173828Z
UID:10000443-1729468800-1729900799@www.northamptonvalleycountryclub.com
SUMMARY:Fairway Aeration
DESCRIPTION:9 Holes Closed
URL:https://www.northamptonvalleycountryclub.com/event/fairway-aeration/
END:VEVENT
BEGIN:VEVENT
DTSTART;TZID=America/New_York:20241025T170000
DTEND;TZID=America/New_York:20241026T200000
DTSTAMP:20260425T084153
CREATED:20240923T200943Z
LAST-MODIFIED:20240923T202713Z
UID:10000453-1729875600-1729972800@www.northamptonvalleycountryclub.com
SUMMARY:Bacon Night
DESCRIPTION:Tempura Applewood Bacon $15 \nHot Honey \nChar Grilled Chopped Romaine Salad $14 \nRoasted Tomatoes\, Pickled Onions\, Egg\, Pancetta\, Shaved Parmesan Cheese\, Bacon Vinaigrette \nBacon Wrapped Meatloaf $22 \nLoaded Baked Potato\, Grilled Asparagus \nPenne and Pancetta $21 \nPenne Pasta\, Crispy Pancetta\, Kale\, Parmesan Cheese \nPearl Sugar Waffle $10 \nChocolate Covered Bacon\, Vanilla Ice Cream\, Ginger Molasses Vanilla Sauce \nVanilla Cheesecake $10 \nBacon Jam\, Whipped Cream\, Fresh Berries
URL:https://www.northamptonvalleycountryclub.com/event/bacon-night-2/
END:VEVENT
END:VCALENDAR